BEGIN:VCALENDAR
PRODID:NingEventWidget-v1
VERSION:2.0
METHOD:PUBLISH
BEGIN:VTIMEZONE
TZID:America/Atikokan
X-LIC-LOCATION:America/Atikokan
BEGIN:STANDARD
TZOFFSETFROM:-0500
TZOFFSETTO:-0500
TZNAME:EST
DTSTART:19700101T000000
END:STANDARD
END:VTIMEZONE
BEGIN:VEVENT
UID:6284697:Event:158642
DTSTAMP:20260419T185935Z
SUMMARY:Southern Gospel Music Cruise
DESCRIPTION:Come join us for this GREAT week of Sun, Fun Cozumel and F
 abulous Gospel Music!! If you BOOK, Reference MY NAME when you sign up
 ! These LOW prices include cabin, taxes, port charges, meals, tips and
  concert performances!!The details are on the poster!!\n\n\nFor more i
 nformation visit https://iccanlink.ning.com/events/southern-gospel-mus
 ic-cruise
DTSTART;TZID=America/Atikokan:20170123T000000
DTEND;TZID=America/Atikokan:20170128T235900
CATEGORIES:cruise, vacation
LOCATION:Carnival Cruiseline
WEBSITE:
URL:
CONTACT:Questions: 336.368.9109 Email: gsg@globalsoutherngospel.com
ORGANIZER:Global Southern Gospel
ATTACH;FMTTYPE="image/jpeg":
ATTENDEE;ROLE=REQ-PARTICIPANT;PARTSTAT=ACCEPTED;RSVP=TRUE;CN="Shirley 
 Carter":https://iccanlink.ning.com/profile/ShirleyCarter
END:VEVENT
END:VCALENDAR
