BEGIN:VCALENDAR
PRODID:NingEventWidget-v1
VERSION:2.0
METHOD:PUBLISH
BEGIN:VTIMEZONE
TZID:America/Atikokan
X-LIC-LOCATION:America/Atikokan
BEGIN:STANDARD
TZOFFSETFROM:-0500
TZOFFSETTO:-0500
TZNAME:EST
DTSTART:19700101T000000
END:STANDARD
END:VTIMEZONE
BEGIN:VEVENT
UID:6284697:Event:104656
DTSTAMP:20260422T100757Z
SUMMARY:H&H Horse Camp Junior & Senior Youth
DESCRIPTION:Junior Horse Camp June 1-2-2012\nSenior Horse Camp June 7-
 9-2012\n\nLooking forward to adding a Bible study for these Young Cowb
 oys & Cowgirls this year... God is Awesome\n\nBarrell Patterns, Poles,
  Roping, & general all around Cowboy Fun. \n\nFor more information vi
 sit https://iccanlink.ning.com/events/h-h-horse-camp-junior-senior-you
 th
DTSTART;TZID=America/Atikokan:20120601T000000
DTEND;TZID=America/Atikokan:20120609T235900
CATEGORIES:registration, limited
LOCATION:MISSISSIPPI
WEBSITE:
URL:
CONTACT:
ORGANIZER:H & H Ranch - Echo Hamilton
ATTACH;FMTTYPE="image/jpeg":
ATTENDEE;ROLE=REQ-PARTICIPANT;PARTSTAT=ACCEPTED;RSVP=TRUE;CN="Susan Ma
 son":https://iccanlink.ning.com/profile/SusanMason
ATTENDEE;ROLE=REQ-PARTICIPANT;PARTSTAT=TENTATIVE;RSVP=TRUE;CN="Pastor 
 Eddie M. Hicks":https://iccanlink.ning.com/profile/PastorEddieMHicks
END:VEVENT
END:VCALENDAR
